BEGIN:VCALENDAR
VERSION:2.0
PRODID:-//Squarespace Inc/Squarespace 6//v6//EN
BEGIN:VEVENT
UID:5cd9faa26e9a7f2ba2ebb364@squarespace.com
DTSTAMP:20190513T232139Z
DTSTART:20190516T100000Z
DTEND:20190516T130000Z
SUMMARY:Bellwether Wines\, Coonawarra SA
GEO:-37.231156;140.853351
LOCATION:Bellwether Wines\, 14183 Riddoch Highway\, Coonawarra\, SA\, 5263\
 , Australia
END:VEVENT
END:VCALENDAR
