BEGIN:VCALENDAR
VERSION:2.0
PRODID:-//Squarespace Inc/Squarespace 6//v6//EN
BEGIN:VEVENT
UID:5b9b514b4d7a9ccfbee00682@squarespace.com
DTSTAMP:20181005T113330Z
DTSTART:20190308T053000Z
DTEND:20190311T063000Z
SUMMARY:Port Fairy Folk Festival
END:VEVENT
END:VCALENDAR
