BEGIN:VCALENDAR
VERSION:2.0
PRODID:-//Squarespace Inc/Squarespace 6//v6//EN
BEGIN:VEVENT
UID:5a58311824a69497e6eab367@squarespace.com
DTSTAMP:20180112T075313Z
DTSTART:20180420T093000Z
DTEND:20180420T130000Z
SUMMARY:Melbourne Recital Centre\, Melbourne VIC
GEO:-37.823389;144.967386
LOCATION:Melbourne Recital Centre\, Corner Southbank Boulevard and Sturt St
 reet\, Southbank VIC 3006\, Australia
END:VEVENT
END:VCALENDAR
