BEGIN:VCALENDAR
VERSION:2.0
PRODID:-//Squarespace Inc/Squarespace 6//v6//EN
BEGIN:VEVENT
UID:5bb6a74c71c10b8bd9110628@squarespace.com
DTSTAMP:20181005T010153Z
DTSTART:20181216T040000Z
DTEND:20181216T070000Z
SUMMARY:Spotted Mallard\, Brunswick VIC
GEO:-37.770411;144.961721
LOCATION:Spotted Mallard\, 314 Sydney Road\, Brunswick\, VIC\, 3056\, Austr
 alia
END:VEVENT
END:VCALENDAR
