BEGIN:VCALENDAR
VERSION:2.0
PRODID:-//Squarespace Inc/Squarespace 6//v6//EN
BEGIN:VEVENT
UID:5bb6a689e2c4835511474b06@squarespace.com
DTSTAMP:20181005T010132Z
DTSTART:20181215T070000Z
DTEND:20181215T120000Z
SUMMARY:Spotted Mallard\, Brunswick VIC
GEO:-37.770427;144.961757
LOCATION:Spotted Mallard\, 314 Sydney Road\, Brunswick\, VIC\, 3056\, Austr
 alia
END:VEVENT
END:VCALENDAR
