BEGIN:VCALENDAR
VERSION:2.0
PRODID:-//Squarespace Inc/Squarespace 6//v6//EN
BEGIN:VEVENT
UID:5bb6a50a104c7b051da30f12@squarespace.com
DTSTAMP:20181005T010125Z
DTSTART:20181214T090000Z
DTEND:20181214T120000Z
SUMMARY:Caravan Music Club\, Oakleigh VIC
GEO:-37.931784;145.077841
LOCATION:Caravan Music Club\, 1 Victor Road\, Bentleigh East\, VIC\, 3165\, 
 Australia
END:VEVENT
END:VCALENDAR
