BEGIN:VCALENDAR
VERSION:2.0
PRODID:-//Squarespace Inc/Squarespace 6//v6//EN
BEGIN:VEVENT
UID:59437d2837c5819eb63a19d8@squarespace.com
DTSTAMP:20170628T015753Z
DTSTART:20170819T100000Z
DTEND:20170819T135900Z
SUMMARY:Flying Saucer Club\, Melbourne VIC
GEO:-37.883986;145.003099
LOCATION:The Flying Saucer Club\, 4 Saint Georges Road\, Elsternwick\, VIC\
 , 3185\, Australia
END:VEVENT
END:VCALENDAR
