BEGIN:VCALENDAR
VERSION:2.0
PRODID:-//Squarespace Inc/Squarespace 6//v6//EN
BEGIN:VEVENT
UID:5992856337c581f4bdfc757d@squarespace.com
DTSTAMP:20170919T110843Z
DTSTART:20171006T093000Z
DTEND:20171006T125900Z
SUMMARY:The Zoo\, Brisbane QLD
GEO:-27.457715;153.035983
LOCATION:The Zoo\, 711 Ann Street\, Fortitude Valley\, QLD\, 4006\, Austral
 ia
END:VEVENT
END:VCALENDAR
