BEGIN:VCALENDAR
VERSION:2.0
PRODID:-//Squarespace Inc/Squarespace 6//v6//EN
BEGIN:VEVENT
UID:58b811e7e58c624c68105f89@squarespace.com
DTSTAMP:20170421T012631Z
DTSTART:20170730T060000Z
DTEND:20170730T090000Z
SUMMARY:The Wheatsheaf Hotel\, Adelaide SA (Matinee)
GEO:-34.918873;138.57537
LOCATION:The Wheatsheaf Hotel\, 39 George Street\, Thebarton\, SA\, 5031\, 
 Australia
END:VEVENT
END:VCALENDAR
