BEGIN:VCALENDAR
VERSION:2.0
PRODID:-//Squarespace Inc/Squarespace 6//v6//EN
BEGIN:VEVENT
UID:58b810ff29687fe151a4d1f3@squarespace.com
DTSTAMP:20170421T012553Z
DTSTART:20170729T110000Z
DTEND:20170729T130000Z
SUMMARY:The Wheatsheaf Hotel\, Adelaide SA
GEO:-34.918873;138.57537
LOCATION:The Wheatsheaf Hotel\, 39 George Street\, Thebarton\, SA\, 5031\, 
 Australia
END:VEVENT
END:VCALENDAR
