BEGIN:VCALENDAR
VERSION:2.0
PRODID:-//Squarespace Inc/Squarespace 6//v6//EN
BEGIN:VEVENT
UID:58b80f5b414fb5cbe10b80a0@squarespace.com
DTSTAMP:20170421T012504Z
DTSTART:20170609T100000Z
DTEND:20170609T130000Z
SUMMARY:The Bearded Lady\, Brisbane QLD
GEO:-27.480521;153.012456
LOCATION:The Bearded Lady\, 138 Boundary Street\, West End\, QLD\, 4101\, A
 ustralia
END:VEVENT
END:VCALENDAR
