BEGIN:VCALENDAR
VERSION:2.0
PRODID:-//Squarespace Inc/Squarespace 6//v6//EN
BEGIN:VEVENT
UID:58eace6e3e00be49e5f6c298@squarespace.com
DTSTAMP:20170410T002416Z
DTSTART:20170623T080000Z
DTEND:20170623T120000Z
SUMMARY:NGV Friday Nights\, Melbourne VIC
GEO:-37.861458;144.985047
LOCATION:NGV\, 180 St Kilda Road\, Melbourne VIC 3000\, Australia
END:VEVENT
END:VCALENDAR
