BEGIN:VCALENDAR
VERSION:2.0
PRODID:-//Squarespace Inc/Squarespace 6//v6//EN
BEGIN:VEVENT
UID:5901ee8c2994ca40051a4050@squarespace.com
DTSTAMP:20170427T223438Z
DTSTART:20170618T060000Z
DTEND:20170618T070000Z
SUMMARY:Greville Records In-Store Performance & Vinyl Launch\, Melbourne VI
 C
GEO:-37.849449;144.991701
LOCATION:Greville Records\, 152 Greville Street\, Prahran\, VIC\, 3181\, Au
 stralia
END:VEVENT
END:VCALENDAR
