BEGIN:VCALENDAR
VERSION:2.0
PRODID:-//Squarespace Inc/Squarespace 6//v6//EN
BEGIN:VEVENT
UID:588fb2c0c534a5d2ea2fe726@squarespace.com
DTSTAMP:20170421T012436Z
DTSTART:20170527T100000Z
DTEND:20170527T130000Z
SUMMARY:Badlands Bar\, Perth WA
GEO:40.720756;-74.000761
LOCATION:Badlands Bar\, 1/3 Aberdeen Street\, Perth WA 6000\, Australia
END:VEVENT
END:VCALENDAR
