BEGIN:VCALENDAR
VERSION:2.0
PRODID:-//Squarespace Inc/Squarespace 6//v6//EN
BEGIN:VEVENT
UID:588fb1eee4fcb545c0b7f956@squarespace.com
DTSTAMP:20170421T012419Z
DTSTART:20170526T100000Z
DTEND:20170526T130000Z
SUMMARY:Mojo's Bar\, Fremantle WA
GEO:40.720756;-74.000761
LOCATION:Mojo's Bar\, 237 Queen Victoria Street\, North Fremantle WA 6159\, 
 Australia
END:VEVENT
END:VCALENDAR
