BEGIN:VCALENDAR
VERSION:2.0
PRODID:-//Squarespace Inc/Squarespace 6//v6//EN
BEGIN:VEVENT
UID:588fb1251e5b6ce62d82ee4f@squarespace.com
DTSTAMP:20170418T230822Z
DTSTART:20170521T023000Z
DTEND:20170521T073000Z
SUMMARY:Leadbelly\, Newtown NSW (Matinee)
GEO:40.720756;-74.000761
LOCATION:Leadbelly\, 42 King Street\, Newtown NSW 2042\, Australia
END:VEVENT
END:VCALENDAR
