BEGIN:VCALENDAR
VERSION:2.0
PRODID:-//Squarespace Inc/Squarespace 6//v6//EN
BEGIN:VEVENT
UID:588fb05e20099e7f3b04e069@squarespace.com
DTSTAMP:20170418T230806Z
DTSTART:20170520T080000Z
DTEND:20170520T130000Z
SUMMARY:Leadbelly\, Newtown NSW
GEO:40.720756;-74.000761
LOCATION:Leadbelly\, 42 King Street\, Newtown NSW 2042\, Australia
END:VEVENT
END:VCALENDAR
