BEGIN:VCALENDAR
VERSION:2.0
PRODID:-//Squarespace Inc/Squarespace 6//v6//EN
BEGIN:VEVENT
UID:588faf1f9f7456e20cb1b00f@squarespace.com
DTSTAMP:20170418T230609Z
DTSTART:20170519T100000Z
DTEND:20170519T130000Z
SUMMARY:Lizotte's\, Lambton NSW
GEO:40.720756;-74.000761
LOCATION:Lizotte's\, 31 Morehead Street\, Lambton NSW 2299\, Australia
END:VEVENT
END:VCALENDAR
