BEGIN:VCALENDAR
VERSION:2.0
PRODID:-//Squarespace Inc/Squarespace 6//v6//EN
BEGIN:VEVENT
UID:588fae3137c58133cd176934@squarespace.com
DTSTAMP:20170319T085933Z
DTSTART:20170408T100000Z
DTEND:20170408T130000Z
SUMMARY:Corner Hotel\, Richmond VIC
GEO:40.720756;-74.000761
LOCATION:Corner Hotel\, 57 Swan Street\, Richmond VIC 3121\, Australia
END:VEVENT
END:VCALENDAR
