BEGIN:VCALENDAR
VERSION:2.0
PRODID:-//Squarespace Inc/Squarespace 6//v6//EN
BEGIN:VEVENT
UID:589157231e5b6cdc60f8b2a7@squarespace.com
DTSTAMP:20170311T013558Z
DTSTART:20170401T080000Z
DTEND:20170401T113000Z
SUMMARY:Republic Bar\, Hobart TAS
GEO:-42.87475;147.317225
LOCATION:Republic Bar\, 299 Elizabeth Street\, North Hobart\, TAS\, 7000\, 
 Australia
END:VEVENT
END:VCALENDAR
