BEGIN:VCALENDAR
VERSION:2.0
PRODID:-//Squarespace Inc/Squarespace 6//v6//EN
BEGIN:VEVENT
UID:59d5f95d59cc68289c47157b@squarespace.com
DTSTAMP:20171103T025528Z
DTSTART:20171216T070000Z
DTEND:20171216T123000Z
SUMMARY:Spotted Mallard\, Brunswick VIC
GEO:-37.770427;144.961757
LOCATION:Spotted Mallard\, 314 Sydney Road\, Brunswick\, VIC\, 3056\, Austr
 alia
END:VEVENT
END:VCALENDAR
