BEGIN:VCALENDAR
VERSION:2.0
PRODID:-//Squarespace Inc/Squarespace 6//v6//EN
BEGIN:VEVENT
UID:59d5f84cedaed885acd0145c@squarespace.com
DTSTAMP:20171103T025512Z
DTSTART:20171215T090000Z
DTEND:20171215T123000Z
SUMMARY:Caravan Music Club\, Oakleigh VIC
GEO:-37.896922;145.089813
LOCATION:Caravan Music Club\, 95-97 Drummond Street\, Oakleigh\, VIC\, 3166
 \, Australia
END:VEVENT
END:VCALENDAR
