BEGIN:VCALENDAR
VERSION:2.0
PRODID:-//Squarespace Inc/Squarespace 6//v6//EN
BEGIN:VEVENT
UID:58315c3d9f74568b2919cfe8@squarespace.com
DTSTAMP:20161121T022958Z
DTSTART:20161218T200000Z
DTEND:20161218T230000Z
SUMMARY:Spotted Mallard\, Brunswick VIC
GEO:-37.770427;144.961757
LOCATION:Spotted Mallard\, 314 Sydney Road\, Brunswick\, VIC\, 3056\, Austr
 alia
END:VEVENT
END:VCALENDAR
