BEGIN:VCALENDAR
VERSION:2.0
PRODID:-//Squarespace Inc/Squarespace 6//v6//EN
BEGIN:VEVENT
UID:58314f88e6f2e12eebcf71b3@squarespace.com
DTSTAMP:20161121T022626Z
DTSTART:20161217T010000Z
DTEND:20161217T040000Z
SUMMARY:Caravan Music Club\, Oakleigh VIC
GEO:-37.896922;145.089813
LOCATION:Caravan Music Club\, 95 Drummond Street\, Oakleigh\, VIC\, 3166\, 
 Australia
END:VEVENT
END:VCALENDAR
